BEGIN:VCALENDAR
VERSION:2.0
PRODID:-//Reit- und Fahrverein Schlangen e.V. - ECPv6.15.17//NONSGML v1.0//EN
CALSCALE:GREGORIAN
METHOD:PUBLISH
X-ORIGINAL-URL:https://www.reitverein-schlangen.de
X-WR-CALDESC:Veranstaltungen für Reit- und Fahrverein Schlangen e.V.
REFRESH-INTERVAL;VALUE=DURATION:PT1H
X-Robots-Tag:noindex
X-PUBLISHED-TTL:PT1H
BEGIN:VTIMEZONE
TZID:Europe/Berlin
BEGIN:DAYLIGHT
TZOFFSETFROM:+0100
TZOFFSETTO:+0200
TZNAME:CEST
DTSTART:20250330T010000
END:DAYLIGHT
BEGIN:STANDARD
TZOFFSETFROM:+0200
TZOFFSETTO:+0100
TZNAME:CET
DTSTART:20251026T010000
END:STANDARD
BEGIN:DAYLIGHT
TZOFFSETFROM:+0100
TZOFFSETTO:+0200
TZNAME:CEST
DTSTART:20260329T010000
END:DAYLIGHT
BEGIN:STANDARD
TZOFFSETFROM:+0200
TZOFFSETTO:+0100
TZNAME:CET
DTSTART:20261025T010000
END:STANDARD
BEGIN:DAYLIGHT
TZOFFSETFROM:+0100
TZOFFSETTO:+0200
TZNAME:CEST
DTSTART:20270328T010000
END:DAYLIGHT
BEGIN:STANDARD
TZOFFSETFROM:+0200
TZOFFSETTO:+0100
TZNAME:CET
DTSTART:20271031T010000
END:STANDARD
END:VTIMEZONE
BEGIN:VEVENT
DTSTART;VALUE=DATE:20260829
DTEND;VALUE=DATE:20260830
DTSTAMP:20260420T110806
CREATED:20260113T095645Z
LAST-MODIFIED:20260113T095645Z
UID:2879-1787961600-1788047999@www.reitverein-schlangen.de
SUMMARY:Trainingsspringen 29.08.2026
DESCRIPTION:Eine Woche vor unserem großen Turnier am 1. September-Wochenende bieten wir ein Trainingsspringen zur Vorbereitung an.
URL:https://www.reitverein-schlangen.de/event/trainingsspringen-29-08-2026/
LOCATION:Reitanlage Am alten Jagdschloß\, Im kleinen Bruch 3\, Schlangen-Oesterholz\, 33189\, Germany
ATTACH;FMTTYPE=image/jpeg:https://www.reitverein-schlangen.de/wp-content/uploads/2025/03/31082025-Trainingsspringen.jpg
ORGANIZER;CN="Reit- und Fahrverein Schlangen e.V.":MAILTO:info@reitverein-schlangen.de
END:VEVENT
BEGIN:VEVENT
DTSTART;VALUE=DATE:20260830
DTEND;VALUE=DATE:20260831
DTSTAMP:20260420T110806
CREATED:20260113T095940Z
LAST-MODIFIED:20260113T095940Z
UID:2881-1788048000-1788134399@www.reitverein-schlangen.de
SUMMARY:Trainingsspringen 30.08.2026
DESCRIPTION:Wer am Samstag das Trainingsspringen verpasst\, kann auf den Sonntag ausweichen.
URL:https://www.reitverein-schlangen.de/event/trainingsspringen-30-08-2026-2/
LOCATION:Reitanlage Am alten Jagdschloß\, Im kleinen Bruch 3\, Schlangen-Oesterholz\, 33189\, Germany
ATTACH;FMTTYPE=image/jpeg:https://www.reitverein-schlangen.de/wp-content/uploads/2025/03/30082025-Trainingsspringen.jpg
ORGANIZER;CN="Reit- und Fahrverein Schlangen e.V.":MAILTO:info@reitverein-schlangen.de
END:VEVENT
END:VCALENDAR