BEGIN:VCALENDAR
VERSION:2.0
PRODID:-//Reit- und Fahrverein Schlangen e.V. - ECPv6.15.17//NONSGML v1.0//EN
CALSCALE:GREGORIAN
METHOD:PUBLISH
X-ORIGINAL-URL:https://www.reitverein-schlangen.de
X-WR-CALDESC:Veranstaltungen für Reit- und Fahrverein Schlangen e.V.
REFRESH-INTERVAL;VALUE=DURATION:PT1H
X-Robots-Tag:noindex
X-PUBLISHED-TTL:PT1H
BEGIN:VTIMEZONE
TZID:Europe/Berlin
BEGIN:DAYLIGHT
TZOFFSETFROM:+0100
TZOFFSETTO:+0200
TZNAME:CEST
DTSTART:20250330T010000
END:DAYLIGHT
BEGIN:STANDARD
TZOFFSETFROM:+0200
TZOFFSETTO:+0100
TZNAME:CET
DTSTART:20251026T010000
END:STANDARD
BEGIN:DAYLIGHT
TZOFFSETFROM:+0100
TZOFFSETTO:+0200
TZNAME:CEST
DTSTART:20260329T010000
END:DAYLIGHT
BEGIN:STANDARD
TZOFFSETFROM:+0200
TZOFFSETTO:+0100
TZNAME:CET
DTSTART:20261025T010000
END:STANDARD
BEGIN:DAYLIGHT
TZOFFSETFROM:+0100
TZOFFSETTO:+0200
TZNAME:CEST
DTSTART:20270328T010000
END:DAYLIGHT
BEGIN:STANDARD
TZOFFSETFROM:+0200
TZOFFSETTO:+0100
TZNAME:CET
DTSTART:20271031T010000
END:STANDARD
END:VTIMEZONE
BEGIN:VEVENT
DTSTART;VALUE=DATE:20260904
DTEND;VALUE=DATE:20260905
DTSTAMP:20260420T122654
CREATED:20251117T154014Z
LAST-MODIFIED:20251117T154014Z
UID:2821-1788480000-1788566399@www.reitverein-schlangen.de
SUMMARY:LPO-Turnier Dressur 4.9.2026
DESCRIPTION:Unser Highlight des Jahres am idyllisch gelegenen Jagdschloss von Oesterholz in familiärer Atmosphäre. \nDie Ausschreibung folgt.
URL:https://www.reitverein-schlangen.de/event/lpo-turnier-dressur-4-9-2026-2/
LOCATION:Reitanlage Am alten Jagdschloß\, Im kleinen Bruch 3\, Schlangen-Oesterholz\, 33189\, Germany
ATTACH;FMTTYPE=image/png:https://www.reitverein-schlangen.de/wp-content/uploads/2025/02/LPO-Turnier-Dressur.png
ORGANIZER;CN="Reit- und Fahrverein Schlangen e.V.":MAILTO:info@reitverein-schlangen.de
END:VEVENT
BEGIN:VEVENT
DTSTART;VALUE=DATE:20260905
DTEND;VALUE=DATE:20260906
DTSTAMP:20260420T122654
CREATED:20251117T153208Z
LAST-MODIFIED:20251117T153700Z
UID:2817-1788566400-1788652799@www.reitverein-schlangen.de
SUMMARY:LPO-Turnier Dressur 5.9.2026
DESCRIPTION:Unser Highlight des Jahres am idyllisch gelegenen Jagdschloss von Oesterholz in familiärer Atmosphäre. \nDie Ausschreibung folgt.
URL:https://www.reitverein-schlangen.de/event/lpo-turnier-dressur-4-9-2026/
LOCATION:Reitanlage Am alten Jagdschloß\, Im kleinen Bruch 3\, Schlangen-Oesterholz\, 33189\, Germany
ATTACH;FMTTYPE=image/png:https://www.reitverein-schlangen.de/wp-content/uploads/2025/02/LPO-Turnier-Dressur.png
ORGANIZER;CN="Reit- und Fahrverein Schlangen e.V.":MAILTO:info@reitverein-schlangen.de
END:VEVENT
BEGIN:VEVENT
DTSTART;VALUE=DATE:20260906
DTEND;VALUE=DATE:20260907
DTSTAMP:20260420T122654
CREATED:20251117T154226Z
LAST-MODIFIED:20251117T154317Z
UID:2823-1788652800-1788739199@www.reitverein-schlangen.de
SUMMARY:LPO-Turnier Springen 6.9.2026
DESCRIPTION:Unser Reiterfest wird nach der Dressur von Freitag und Samstag mit den Springprüfungen am Sonntag fortgesetzt. \nZu der sportlichen Perspektive gehört für unsere Besucher sicherlich auch der kulinarische Aspekt.
URL:https://www.reitverein-schlangen.de/event/lpo-turnier-springen-2/
LOCATION:Reitanlage Am alten Jagdschloß\, Im kleinen Bruch 3\, Schlangen-Oesterholz\, 33189\, Germany
ATTACH;FMTTYPE=image/png:https://www.reitverein-schlangen.de/wp-content/uploads/2025/02/LPO-Turnier-Springen.png
ORGANIZER;CN="Reit- und Fahrverein Schlangen e.V.":MAILTO:info@reitverein-schlangen.de
END:VEVENT
END:VCALENDAR